BEGIN:VCALENDAR
VERSION:2.0
PRODID:-//USV Judo | Verneuil sur Seine - ECPv6.2.2//NONSGML v1.0//EN
CALSCALE:GREGORIAN
METHOD:PUBLISH
X-ORIGINAL-URL:https://www.judo-verneuil-78.fr
X-WR-CALDESC:Events for USV Judo | Verneuil sur Seine
REFRESH-INTERVAL;VALUE=DURATION:PT1H
X-Robots-Tag:noindex
X-PUBLISHED-TTL:PT1H
BEGIN:VTIMEZONE
TZID:Europe/Paris
BEGIN:DAYLIGHT
TZOFFSETFROM:+0100
TZOFFSETTO:+0200
TZNAME:CEST
DTSTART:20260329T010000
END:DAYLIGHT
BEGIN:STANDARD
TZOFFSETFROM:+0200
TZOFFSETTO:+0100
TZNAME:CET
DTSTART:20261025T010000
END:STANDARD
END:VTIMEZONE
BEGIN:VEVENT
DTSTART;TZID=Europe/Paris:20260510T093000
DTEND;TZID=Europe/Paris:20260510T170000
DTSTAMP:20260421T120214
CREATED:20260201T161852Z
LAST-MODIFIED:20260201T162106Z
UID:2256-1778405400-1778432400@www.judo-verneuil-78.fr
SUMMARY:Tournoi Vétérans à Maurepas
DESCRIPTION:Tournoi Vétérans \n(ceintures de couleurs et ceintures noires) \nle Dimanche 10 Mai 2026 9h30 à 17h\n \nMasculin et Féminin \nGYMNASE DE MALMEDONE \nAvenue de Rouergue \n78310 Maurepas \n 117618_Reglement_tournoi_veteran_2026_v2 \n  \n 
URL:https://www.judo-verneuil-78.fr/evenement/tournoi-veterans-a-maurepas/
LOCATION:Gymnase de Malmedone\, avenue de Rouergue\, MAUREPAS\, 78310
END:VEVENT
END:VCALENDAR